BEGIN:VCALENDAR
VERSION:2.0
PRODID:-//Associazione V.I.T.A. Chieri - ECPv5.15.0//NONSGML v1.0//EN
CALSCALE:GREGORIAN
METHOD:PUBLISH
X-WR-CALNAME:Associazione V.I.T.A. Chieri
X-ORIGINAL-URL:https://www.voltoweb.it/associazionevitachieri
X-WR-CALDESC:Eventi per Associazione V.I.T.A. Chieri
BEGIN:VTIMEZONE
TZID:Europe/Rome
BEGIN:DAYLIGHT
TZOFFSETFROM:+0100
TZOFFSETTO:+0200
TZNAME:CEST
DTSTART:20240331T010000
END:DAYLIGHT
BEGIN:STANDARD
TZOFFSETFROM:+0200
TZOFFSETTO:+0100
TZNAME:CET
DTSTART:20241027T010000
END:STANDARD
END:VTIMEZONE
BEGIN:VEVENT
DTSTART;TZID=Europe/Rome:20240405T183000
DTEND;TZID=Europe/Rome:20240405T203000
DTSTAMP:20260421T131816
CREATED:20240405T063841Z
LAST-MODIFIED:20241212T174712Z
UID:2966-1712341800-1712349000@www.voltoweb.it
SUMMARY:Donna è Vita!
DESCRIPTION: 
URL:https://www.voltoweb.it/associazionevitachieri/eventi/donna-e-vita/
LOCATION:Agrigelateria San Pé Poirino\, Cascina San Pietro 29/A\, Poirino\, 10046
CATEGORIES:Agenda
ATTACH;FMTTYPE=image/jpeg:https://www.voltoweb.it/associazionevitachieri/wp-content/uploads/sites/9/2016/01/Appuntamenti.jpg
END:VEVENT
END:VCALENDAR