BEGIN:VCALENDAR
VERSION:2.0
PRODID:-//Associazione Manal - ECPv5.15.0//NONSGML v1.0//EN
CALSCALE:GREGORIAN
METHOD:PUBLISH
X-WR-CALNAME:Associazione Manal
X-ORIGINAL-URL:https://www.voltoweb.it/associazionemanal
X-WR-CALDESC:Eventi per Associazione Manal
BEGIN:VTIMEZONE
TZID:Europe/Rome
BEGIN:DAYLIGHT
TZOFFSETFROM:+0100
TZOFFSETTO:+0200
TZNAME:CEST
DTSTART:20190331T010000
END:DAYLIGHT
BEGIN:STANDARD
TZOFFSETFROM:+0200
TZOFFSETTO:+0100
TZNAME:CET
DTSTART:20191027T010000
END:STANDARD
END:VTIMEZONE
BEGIN:VEVENT
DTSTART;TZID=Europe/Rome:20190404T123000
DTEND;TZID=Europe/Rome:20190404T140000
DTSTAMP:20260421T144631
CREATED:20190402T211116Z
LAST-MODIFIED:20190402T212811Z
UID:327-1554381000-1554386400@www.voltoweb.it
SUMMARY:Pranzo di classe
DESCRIPTION:Giovedì\, prima della lezione\, mangeremo insieme nel locale dei mariti delle nostre Gul ed Esengul. Un lieto momento di condivisione e di rinforzo del gruppo \n 
URL:https://www.voltoweb.it/associazionemanal/event/pranzo-di-classe/
LOCATION:Pizzeria\, strada Altessano 24\, Torino\, Italia
END:VEVENT
END:VCALENDAR