BEGIN:VCALENDAR
VERSION:2.0
PRODID:-//Associazione Manal - ECPv5.15.0//NONSGML v1.0//EN
CALSCALE:GREGORIAN
METHOD:PUBLISH
X-WR-CALNAME:Associazione Manal
X-ORIGINAL-URL:https://www.voltoweb.it/associazionemanal
X-WR-CALDESC:Eventi per Associazione Manal
BEGIN:VTIMEZONE
TZID:Europe/Rome
BEGIN:DAYLIGHT
TZOFFSETFROM:+0100
TZOFFSETTO:+0200
TZNAME:CEST
DTSTART:20180325T010000
END:DAYLIGHT
BEGIN:STANDARD
TZOFFSETFROM:+0200
TZOFFSETTO:+0100
TZNAME:CET
DTSTART:20181028T010000
END:STANDARD
END:VTIMEZONE
BEGIN:VEVENT
DTSTART;TZID=Europe/Rome:20180529T140000
DTEND;TZID=Europe/Rome:20180529T170000
DTSTAMP:20260421T144227
CREATED:20180522T205118Z
LAST-MODIFIED:20180522T210547Z
UID:168-1527602400-1527613200@www.voltoweb.it
SUMMARY:Esame A2
DESCRIPTION:Esame per la certificazione delle competenze linguistiche di primo livello
URL:https://www.voltoweb.it/associazionemanal/event/esame-a2/
LOCATION:Associazione Manal\, Piazza Eugenio Montale 14/i\, Torino\, 10151\, Italia
CATEGORIES:Calendario
END:VEVENT
END:VCALENDAR