BEGIN:VCALENDAR
VERSION:2.0
PRODID:-//Associazione Manal - ECPv5.15.0//NONSGML v1.0//EN
CALSCALE:GREGORIAN
METHOD:PUBLISH
X-WR-CALNAME:Associazione Manal
X-ORIGINAL-URL:https://www.voltoweb.it/associazionemanal
X-WR-CALDESC:Eventi per Associazione Manal
BEGIN:VTIMEZONE
TZID:Europe/Rome
BEGIN:DAYLIGHT
TZOFFSETFROM:+0100
TZOFFSETTO:+0200
TZNAME:CEST
DTSTART:20190331T010000
END:DAYLIGHT
BEGIN:STANDARD
TZOFFSETFROM:+0200
TZOFFSETTO:+0100
TZNAME:CET
DTSTART:20191027T010000
END:STANDARD
END:VTIMEZONE
BEGIN:VEVENT
DTSTART;TZID=Europe/Rome:20190503T140000
DTEND;TZID=Europe/Rome:20190503T160000
DTSTAMP:20260421T131818
CREATED:20190507T205157Z
LAST-MODIFIED:20190507T205553Z
UID:394-1556892000-1556899200@www.voltoweb.it
SUMMARY:Esame A2
DESCRIPTION:
URL:https://www.voltoweb.it/associazionemanal/event/esame-a2-2/
LOCATION:Associazione Manal\, Piazza Eugenio Montale 14/i\, Torino\, 10151\, Italia
CATEGORIES:Calendario,notizie
END:VEVENT
END:VCALENDAR