BEGIN:VCALENDAR
VERSION:2.0
PRODID:-//Associazione Manal - ECPv5.15.0//NONSGML v1.0//EN
CALSCALE:GREGORIAN
METHOD:PUBLISH
X-WR-CALNAME:Associazione Manal
X-ORIGINAL-URL:https://www.voltoweb.it/associazionemanal
X-WR-CALDESC:Eventi per Associazione Manal
BEGIN:VTIMEZONE
TZID:Europe/Rome
BEGIN:DAYLIGHT
TZOFFSETFROM:+0100
TZOFFSETTO:+0200
TZNAME:CEST
DTSTART:20190331T010000
END:DAYLIGHT
BEGIN:STANDARD
TZOFFSETFROM:+0200
TZOFFSETTO:+0100
TZNAME:CET
DTSTART:20191027T010000
END:STANDARD
END:VTIMEZONE
BEGIN:VEVENT
DTSTART;TZID=Europe/Rome:20190307T140000
DTEND;TZID=Europe/Rome:20190307T160000
DTSTAMP:20260421T150348
CREATED:20190305T215433Z
LAST-MODIFIED:20190305T221651Z
UID:269-1551967200-1551974400@www.voltoweb.it
SUMMARY:8 marzo il giorno prima
DESCRIPTION:Al centro d’incontro Montale\, in piazza Montale a Torino \ngiovedì 7 marzo 2019 dalle 14 alle 16: \n  \n \nFesteggeremo le donne di tutti i continenti con la nostra gioia di stare insieme\, ballando\, cantando\, condividendo cibi e pensieri. Vieni anche tu\, porta qualcosa da mangiare o da bere\, fatti accompagnare da un pensiero sulla donna che potrai comunicarci. Ti aspettiamo \nhttps://www.facebook.com/events/673205199762399/ \n 
URL:https://www.voltoweb.it/associazionemanal/event/8-marzo-il-giorno-prima/
LOCATION:Associazione Manal\, Piazza Eugenio Montale 14/i\, Torino\, 10151\, Italia
CATEGORIES:Calendario
ATTACH;FMTTYPE=image/jpeg:https://www.voltoweb.it/associazionemanal/wp-content/uploads/sites/63/2019/03/dicembre-17-044-Copia.jpg
END:VEVENT
END:VCALENDAR